BEGIN:VCALENDAR
VERSION:2.0
PRODID:-//AISIS - ECPv6.6.3//NONSGML v1.0//EN
CALSCALE:GREGORIAN
METHOD:PUBLISH
X-WR-CALNAME:AISIS
X-ORIGINAL-URL:https://www.aisis.it
X-WR-CALDESC:Eventi per AISIS
REFRESH-INTERVAL;VALUE=DURATION:PT1H
X-Robots-Tag:noindex
X-PUBLISHED-TTL:PT1H
BEGIN:VTIMEZONE
TZID:Europe/Rome
BEGIN:DAYLIGHT
TZOFFSETFROM:+0100
TZOFFSETTO:+0200
TZNAME:CEST
DTSTART:20250330T010000
END:DAYLIGHT
BEGIN:STANDARD
TZOFFSETFROM:+0200
TZOFFSETTO:+0100
TZNAME:CET
DTSTART:20251026T010000
END:STANDARD
END:VTIMEZONE
BEGIN:VEVENT
DTSTART;TZID=Europe/Rome:20250930T093000
DTEND;TZID=Europe/Rome:20250930T170000
DTSTAMP:20260420T084933
CREATED:20250910T153534Z
LAST-MODIFIED:20250910T153534Z
UID:5018-1759224600-1759251600@www.aisis.it
SUMMARY:Seminario “Interoperabilità e sicurezza nella gestione dei segnali vitali” – Bologna\, 30 settembre
DESCRIPTION:Il 30 settembre 2025 AISIS patrocina il seminario “Interoperabilità e sicurezza nella gestione dei segnali vitali”\, organizzato da AIIC presso lo Starhotels Excelsior di Bologna (Viale Pietro Pietramellara 51).L’evento\, gratuito e a numero chiuso\, approfondirà le esigenze e le criticità della gestione dei dati clinici con focus su interoperabilità\, cybersecurity e segnali vitali (ECG)\, attraverso sessioni scientifiche\, testimonianze aziendali e una simulazione pratica sui dispositivi. \nIl seminario assegna 6 CFP (CNI) agli ingegneri iscritti. \n📅 Quando: martedì 30 settembre 2025\, ore 9:30–17:00📍 Dove: Starhotels Excelsior – Bologna📌 Iscrizione obbligatoria: clicca qui per registrarti \nPer info: segreteria@aiic.it \nSCARICA QUI LA LOCANDINA
URL:https://www.aisis.it/event/seminario-interoperabilita-e-sicurezza-nella-gestione-dei-segnali-vitali-bologna-30-settembre/
LOCATION:Starhotels Excelsior\, Viale Pietro Pietramellara 51\, Bologna\, BO\, 40121\, Italy
CATEGORIES:Eventi segnalati
ATTACH;FMTTYPE=image/png:https://www.aisis.it/wp-content/uploads/Screenshot-2025-09-10-173121.png
ORGANIZER;CN="AIIC":MAILTO:segreteria@aiic.it
END:VEVENT
BEGIN:VEVENT
DTSTART;TZID=Europe/Rome:20250530T090000
DTEND;TZID=Europe/Rome:20250530T180000
DTSTAMP:20260420T084933
CREATED:20250519T114837Z
LAST-MODIFIED:20250519T114837Z
UID:4961-1748595600-1748628000@www.aisis.it
SUMMARY:Pisa\, 30 maggio – Convegno Nazionale “Strumenti e sinergie per un nuovo Sistema Sanitario Nazionale”
DESCRIPTION:AISIS segnala il convegno nazionale organizzato da APIHM che si terrà il 30 maggio 2025 presso l’Hotel Repubblica Marinara di Pisa\, con il patrocinio richiesto a importanti istituzioni nazionali tra cui il Garante per la Privacy\, il Ministero della Salute\, AGENAS e ACN. \nTitolo del convegno:🩺 “Strumenti e sinergie per un nuovo Sistema Sanitario Nazionale” \nUn’intera giornata di confronto (09:00–18:00) dedicata a professionisti sanitari\, giuristi\, esperti di intelligenza artificiale\, DPO e stakeholder istituzionali.Tra i temi trattati: \n\nCybersicurezza e privacy nell’uso dell’IA in sanità\nFascicolo Sanitario Elettronico (FSE) e Ecosistema Dati Sanitari (EDS)\nTelemedicina e nuovi obblighi di protezione dei sistemi\nNormative (GDPR\, NIS2\, AI Act) e sfide organizzative\nReti DPO\, governance e sinergie tra ruoli aziendali\n\nSede: Hotel Repubblica Marinara\, Via Matteucci 81 – PisaPartecipazione gratuita\, previa iscrizione via email:📧 apihm-congressi@googlegroups.com \nSCARICA LA LOCANDINA \n👉 Per info: www.apihm.it – 📩 segreteria@apihm.it
URL:https://www.aisis.it/event/pisa-30-maggio-convegno-nazionale-strumenti-e-sinergie-per-un-nuovo-sistema-sanitario-nazionale/
LOCATION:Hotel Repubblica Marinara\, Via Matteucci 81\, Pisa\, Italy
CATEGORIES:Eventi segnalati
ATTACH;FMTTYPE=image/png:https://www.aisis.it/wp-content/uploads/LOCANDINA-CONVEGNO-bozza_REV5-5-1.png
END:VEVENT
END:VCALENDAR