BEGIN:VCALENDAR
VERSION:2.0
PRODID:-//AISIS - ECPv6.6.3//NONSGML v1.0//EN
CALSCALE:GREGORIAN
METHOD:PUBLISH
X-WR-CALNAME:AISIS
X-ORIGINAL-URL:https://www.aisis.it
X-WR-CALDESC:Eventi per AISIS
REFRESH-INTERVAL;VALUE=DURATION:PT1H
X-Robots-Tag:noindex
X-PUBLISHED-TTL:PT1H
BEGIN:VTIMEZONE
TZID:Europe/Rome
BEGIN:DAYLIGHT
TZOFFSETFROM:+0100
TZOFFSETTO:+0200
TZNAME:CEST
DTSTART:20230326T010000
END:DAYLIGHT
BEGIN:STANDARD
TZOFFSETFROM:+0200
TZOFFSETTO:+0100
TZNAME:CET
DTSTART:20231029T010000
END:STANDARD
END:VTIMEZONE
BEGIN:VEVENT
DTSTART;VALUE=DATE:20231108
DTEND;VALUE=DATE:20231111
DTSTAMP:20260420T145923
CREATED:20231001T115311Z
LAST-MODIFIED:20231001T115311Z
UID:4409-1699401600-1699660799@www.aisis.it
SUMMARY:Convention Fiaso 25
DESCRIPTION:AISIS è lieta di segnalare la Seconda Convention del Management della sanità italiana nel 25° anno di vita della FIASO\, a ROMA\, PALAZZO DEI CONGRESSI 8-10 NOVEMBRE 2023. \nUn quarto di secolo che coincide con una parte significativa della storia del SSN\, soprattutto dal varo della aziendalizzazione in poi. \nIl contesto attuale del Ssn si annuncia ricco di cambiamenti\, alcuni dei quali si intravedono in dettaglio\, altri delineati ancora per lo più attraverso la cornice di riferimento. Le fasi più dure della pandemia hanno consentito all’opinione pubblica di scoprire gli effetti di anni di definanziamento del sistema sanitario\, sorpreso dalla emergenza in una condizione che lo ha fatto sembrare impreparato non solo per ragioni legate alla specificità ed imprevedibilità del Covid. Ma le hanno permesso anche di giungere ad una rinnovata consapevolezza del valore pubblico del Ssn e delle politiche sanitarie\, e della loro importanza per l’intera società. \nParteciperà alla convention Alberto Ronchi\, Presidente AISIS
URL:https://www.aisis.it/event/convention-fiaso-25/
LOCATION:Palazzo dei Congressi\, Palazzo dei Congressi\, Roma\, Italia
CATEGORIES:Eventi segnalati
ATTACH;FMTTYPE=image/png:https://www.aisis.it/wp-content/uploads/Fiaso25png.png
END:VEVENT
END:VCALENDAR