BEGIN:VCALENDAR
VERSION:2.0
PRODID:-//AISIS - ECPv6.6.3//NONSGML v1.0//EN
CALSCALE:GREGORIAN
METHOD:PUBLISH
X-WR-CALNAME:AISIS
X-ORIGINAL-URL:https://www.aisis.it
X-WR-CALDESC:Eventi per AISIS
REFRESH-INTERVAL;VALUE=DURATION:PT1H
X-Robots-Tag:noindex
X-PUBLISHED-TTL:PT1H
BEGIN:VTIMEZONE
TZID:Europe/Rome
BEGIN:DAYLIGHT
TZOFFSETFROM:+0100
TZOFFSETTO:+0200
TZNAME:CEST
DTSTART:20230326T010000
END:DAYLIGHT
BEGIN:STANDARD
TZOFFSETFROM:+0200
TZOFFSETTO:+0100
TZNAME:CET
DTSTART:20231029T010000
END:STANDARD
END:VTIMEZONE
BEGIN:VEVENT
DTSTART;TZID=Europe/Rome:20230519T093000
DTEND;TZID=Europe/Rome:20230519T173000
DTSTAMP:20260421T013727
CREATED:20230514T150000Z
LAST-MODIFIED:20230514T114926Z
UID:4321-1684488600-1684517400@www.aisis.it
SUMMARY:Convegno nazionale APIHM 2023
DESCRIPTION:AISIS è lieta di segnalare il Convegno nazionale 2023 di APIHM\, Associazione Privacy and Information Healthcare Manager. Il Convegno si terrà il prossimo 19 Maggio a Parma\, presso il complesso monumentale di San Paolo. \n\n\n\nIl convegno farà il punto sullo stato dell’arte dell’applicazione delle più recenti misure organizzative e tecniche in materia di protezione dei dati nel sistema sanitario\, ponendo una particolare attenzione alle specifiche figure\, ai modelli applicativi e all’organizzazione dedicata a proteggere le informazioni di salute\, alla luce dell’imponente processo di digitalizzazione ed innovazione del sistema sanitario e dei possibili rischi e complessità che ciò comporta\, in particolare a fronte dei sempre più frequenti attacchi cibernetici. \n\n\n\nMaggiori informazioni sul sito di APIHM e nella brochure di seguito. \n\n\n\nAPIHM-Convegno-nazionale-2023
URL:https://www.aisis.it/event/convegno-nazionale-apihm-2023/
LOCATION:MI
CATEGORIES:Eventi segnalati
ATTACH;FMTTYPE=image/gif:https://www.aisis.it/wp-content/uploads/logoAphim.gif
END:VEVENT
END:VCALENDAR