BEGIN:VCALENDAR
VERSION:2.0
PRODID:-//AISIS - ECPv6.6.3//NONSGML v1.0//EN
CALSCALE:GREGORIAN
METHOD:PUBLISH
X-ORIGINAL-URL:https://www.aisis.it
X-WR-CALDESC:Eventi per AISIS
REFRESH-INTERVAL;VALUE=DURATION:PT1H
X-Robots-Tag:noindex
X-PUBLISHED-TTL:PT1H
BEGIN:VTIMEZONE
TZID:Europe/Rome
BEGIN:DAYLIGHT
TZOFFSETFROM:+0100
TZOFFSETTO:+0200
TZNAME:CEST
DTSTART:20220327T010000
END:DAYLIGHT
BEGIN:STANDARD
TZOFFSETFROM:+0200
TZOFFSETTO:+0100
TZNAME:CET
DTSTART:20221030T010000
END:STANDARD
END:VTIMEZONE
BEGIN:VEVENT
DTSTART;TZID=Europe/Rome:20220614T000000
DTEND;TZID=Europe/Rome:20220616T235959
DTSTAMP:20260421T155717
CREATED:20220518T150220Z
LAST-MODIFIED:20220518T150222Z
UID:3557-1655164800-1655423999@www.aisis.it
SUMMARY:HIMSS - European Health Conference & Exibition 2022
DESCRIPTION:AISIS è lieta di segnalare che HIMSS European Health Conference & Exhibition 2022 riunisce la comunità sanitaria europea a Helsinki\, in Finlandia\, dal 14 al 16 giugno 2022. \n\n\n\n“I programmi nazionali di trasformazione digitale devono tener conto di un nuovo obiettivo chiave: ricostruire sistemi sanitari più forti e resilienti.L’UE sta investendo 673 miliardi di euro in “recupero e resilienza”\, di cui almeno 13 miliardi di euro sono destinati a investimenti nella trasformazione della salute digitale. I leader del settore sanitario e IT hanno un’opportunità più grande che mai per far progredire la trasformazione digitale dei loro sistemi sanitari. La conferenza ed esposizione europea sulla salute HIMSS del 2022 sarà l’epicentro di quest’anno per realizzare questa impresa.” \n\n\n\nConsulta la pagina dell’evento.
URL:https://www.aisis.it/event/himss-european-health-conference-exibition-2022/
LOCATION:MI
CATEGORIES:Eventi segnalati
ATTACH;FMTTYPE=image/jpeg:https://www.aisis.it/wp-content/uploads/HIMSS2022.jpg
END:VEVENT
END:VCALENDAR