BEGIN:VCALENDAR
VERSION:2.0
PRODID:-//AISIS - ECPv6.6.3//NONSGML v1.0//EN
CALSCALE:GREGORIAN
METHOD:PUBLISH
X-ORIGINAL-URL:https://www.aisis.it
X-WR-CALDESC:Eventi per AISIS
REFRESH-INTERVAL;VALUE=DURATION:PT1H
X-Robots-Tag:noindex
X-PUBLISHED-TTL:PT1H
BEGIN:VTIMEZONE
TZID:Europe/Rome
BEGIN:DAYLIGHT
TZOFFSETFROM:+0100
TZOFFSETTO:+0200
TZNAME:CEST
DTSTART:20230326T010000
END:DAYLIGHT
BEGIN:STANDARD
TZOFFSETFROM:+0200
TZOFFSETTO:+0100
TZNAME:CET
DTSTART:20231029T010000
END:STANDARD
END:VTIMEZONE
BEGIN:VEVENT
DTSTART;VALUE=DATE:20231108
DTEND;VALUE=DATE:20231111
DTSTAMP:20260420T132400
CREATED:20231001T115311Z
LAST-MODIFIED:20231001T115311Z
UID:4409-1699401600-1699660799@www.aisis.it
SUMMARY:Convention Fiaso 25
DESCRIPTION:AISIS è lieta di segnalare la Seconda Convention del Management della sanità italiana nel 25° anno di vita della FIASO\, a ROMA\, PALAZZO DEI CONGRESSI 8-10 NOVEMBRE 2023. \nUn quarto di secolo che coincide con una parte significativa della storia del SSN\, soprattutto dal varo della aziendalizzazione in poi. \nIl contesto attuale del Ssn si annuncia ricco di cambiamenti\, alcuni dei quali si intravedono in dettaglio\, altri delineati ancora per lo più attraverso la cornice di riferimento. Le fasi più dure della pandemia hanno consentito all’opinione pubblica di scoprire gli effetti di anni di definanziamento del sistema sanitario\, sorpreso dalla emergenza in una condizione che lo ha fatto sembrare impreparato non solo per ragioni legate alla specificità ed imprevedibilità del Covid. Ma le hanno permesso anche di giungere ad una rinnovata consapevolezza del valore pubblico del Ssn e delle politiche sanitarie\, e della loro importanza per l’intera società. \nParteciperà alla convention Alberto Ronchi\, Presidente AISIS
URL:https://www.aisis.it/event/convention-fiaso-25/
LOCATION:Palazzo dei Congressi\, Palazzo dei Congressi\, Roma\, Italia
CATEGORIES:Eventi segnalati
ATTACH;FMTTYPE=image/png:https://www.aisis.it/wp-content/uploads/Fiaso25png.png
END:VEVENT
BEGIN:VEVENT
DTSTART;VALUE=DATE:20231114
DTEND;VALUE=DATE:20231117
DTSTAMP:20260420T132400
CREATED:20231028T082739Z
LAST-MODIFIED:20231028T082739Z
UID:4438-1699920000-1700179199@www.aisis.it
SUMMARY:DIGITAL ITALY SUMMIT 2023
DESCRIPTION:AISIS è lieta di segnalare che dal 14 al 16 novembre si terrà a Roma l’ottava edizione del “Digital Italy Summit”\, il maggior evento italiano sul tema dell’Innovazione Digitale delle Imprese e della Pubblica Amministrazione.  \nAll’evento parteciperà Claudio Caccia\, Presidente Onorario di AISIS. \n  \n✍️ Registrati gratuitamente con il codice invito AISIS: https://lnkd.in/dU_R7DmB \nIl “Digital Italy Summit” rappresenta il momento conclusivo di un lungo percorso che si è articolato in una serie di eventi territoriali che hanno coinvolto molte delle Imprese\, delle Pubbliche Amministrazioni e delle Organizzazioni più innovative del settore pubblico e privato attive nella nostra Nazione. \nLa manifestazione si articola in tre giornate di lavori ed è così strutturata: \n🗓 Mercoledì 15 novembre:\n– Sessione Plenaria di Apertura (09.00 – 11.00);\n– Track 1: La Cybersecurity per il Paese (11.30 – 17.30);\n– Track 2: Le Tecnologie per la Transizione Digitale (11.30 – 17.30);\n– Track 3: I Settori e i Nuovi Ecosistemi (11.30 – 17.30);\n– Cio Panel (17.00 – 20.00). \n🗓 Giovedì 16 novembre:\n– PA Summit (09.00 – 13.00);\n– Sanità e Welfare Summit (14.15 – 17.00).\n\n👉 Scopri l’evento: https://lnkd.in/dYncF3yK \n✍️ Registrati gratuitamente con il codice invito AISIS23: https://lnkd.in/dU_R7DmB \nAISIS è Patrocinatore dell’evento.  \n#TIGdigitaly\nEvento organizzato da @theinnovationgroup
URL:https://www.aisis.it/event/digital-italy-summit-2023/
LOCATION:MI
CATEGORIES:Eventi segnalati
ATTACH;FMTTYPE=image/jpeg:https://www.aisis.it/wp-content/uploads/DIS2023.jpg
END:VEVENT
BEGIN:VEVENT
DTSTART;TZID=Europe/Rome:20231116T093000
DTEND;TZID=Europe/Rome:20231116T123000
DTSTAMP:20260420T132400
CREATED:20231021T101728Z
LAST-MODIFIED:20231021T101728Z
UID:4428-1700127000-1700137800@www.aisis.it
SUMMARY:PNRR\, INNOVAZIONE\, SOSTENIBILITÀ E INTEGRITÀ DEL S.S.N.
DESCRIPTION:AISIS è lieta di segnalare l’incontro dal titolo “PNRR\, INNOVAZIONE\, SOSTENIBILITÀ E INTEGRITÀ DEL S.S.N.”\, organizzato dall’Associazione Italiana per l’Integrità della Salute\, che si terrà il 16 novembre 2023 ore 9.30\na Roma – Sala Alessandrina\, Borgo Santo Spirito n. 3. \nAll’incontro parteciperanno il vice Presidente di AISIS Marco Foracchia e il nostro socio Mario Lugli\, Azienda Ospedaliera – Università di Modena. \n 
URL:https://www.aisis.it/event/pnrr-innovazione-sostenibilita-e-integrita-del-s-s-n/
LOCATION:MI
CATEGORIES:Eventi segnalati
ATTACH;FMTTYPE=image/jpeg:https://www.aisis.it/wp-content/uploads/convegno.jpg
END:VEVENT
BEGIN:VEVENT
DTSTART;TZID=Europe/Rome:20231130T113000
DTEND;TZID=Europe/Rome:20231130T130000
DTSTAMP:20260420T132400
CREATED:20231028T080748Z
LAST-MODIFIED:20231028T080748Z
UID:4433-1701343800-1701349200@www.aisis.it
SUMMARY:I NUOVI SISTEMI DI TELEMEDICINA
DESCRIPTION:AISIS è lieta di segnalare il Workshop dal titolo “I NUOVI SISTEMI DI TELEMEDICINA” nell’ambito della XV edizione del Forum dedicato alla Non Autosufficienza e dell’Autonomia Possibile\, a Bologna presso Savoia Hotel Regency il 30 novembre 2023. \nAl Workshop è curato dal nostro socio Luca Capitani\, Azienda ospedaliero universitaria di bologna Policlinico S.Orsola\, con la partecipazione Alberto Ronchi\, Presidente di AISIS. \n 
URL:https://www.aisis.it/event/i-nuovi-sistemi-di-telemedicina/
LOCATION:MI
CATEGORIES:Eventi segnalati
ATTACH;FMTTYPE=image/jpeg:https://www.aisis.it/wp-content/uploads/seminario.jpg
END:VEVENT
END:VCALENDAR