BEGIN:VCALENDAR
VERSION:2.0
PRODID:-//AISIS - ECPv6.6.3//NONSGML v1.0//EN
CALSCALE:GREGORIAN
METHOD:PUBLISH
X-ORIGINAL-URL:https://www.aisis.it
X-WR-CALDESC:Eventi per AISIS
REFRESH-INTERVAL;VALUE=DURATION:PT1H
X-Robots-Tag:noindex
X-PUBLISHED-TTL:PT1H
BEGIN:VTIMEZONE
TZID:Europe/Rome
BEGIN:DAYLIGHT
TZOFFSETFROM:+0100
TZOFFSETTO:+0200
TZNAME:CEST
DTSTART:20220327T010000
END:DAYLIGHT
BEGIN:STANDARD
TZOFFSETFROM:+0200
TZOFFSETTO:+0100
TZNAME:CET
DTSTART:20221030T010000
END:STANDARD
END:VTIMEZONE
BEGIN:VEVENT
DTSTART;TZID=Europe/Rome:20221019T090000
DTEND;TZID=Europe/Rome:20221019T143000
DTSTAMP:20260421T083204
CREATED:20220921T080000Z
LAST-MODIFIED:20220919T214815Z
UID:4036-1666170000-1666189800@www.aisis.it
SUMMARY:PA Summit
DESCRIPTION:AISIS è lieta di segnalare l’evento PA SUMMIT\, che si terrà il prossimo 19 Ottobre a Roma\, presso il Centro Congressi Roma Eventi Fontana di Trevi\, organizzato da The Innovation Group nell’ambito dei lavori della VII Edizione del “DIGITAL ITALY SUMMIT 2022”.  \n\n\n\nPNRR\, Sanità\, digitalizzazione della PA e crescita economica sono solo alcuni dei molteplici temi che verranno affrontati nel corso del Summit.   \n\n\n\nIn particolar modo\, durante la Sessione 1 – PNRR ULTIMO MIGLIO – verranno analizzate le modalità con cui le risorse del PNRR potranno fluire\, attraverso l’“ultimo miglio”\, alle Amministrazioni Locali e al sistema delle Imprese sui territori\, e alcune tra le progettualità più interessanti che alcune Regioni e Comuni stanno sviluppando in collaborazione con le imprese del settore.  \n\n\n\nLa sessione 2 – IL PNRR E LE NUOVE PROGETTUALITA’ ORGANIZZATIVE E TECNOLOGICHE NELL’AREA DELLA SANITÀ – farà il punto sulle nuove tecnologie digitali e il loro impatto sul sistema sanitario e sulle relazioni organizzative dei sistemi sanitari. Inoltre\, i Responsabili delle varie organizzazioni del SSN e delle Aziende operanti nella fornitura di tecnologie e servizi digitali per la Sanità\, illustreranno le nuove progettualità per concorrere alle risorse del PNRR.  \n\n\n\nLa sessione 3 del PA Summit – INNOVAZIONE DIGITALE E SEMPLIFICAZIONE DELLA PA A UN ANNO DALLA DEFINITIVA APPROVAZIONE DEL PNRR – farà il punto sullo stato di avanzamento dei processi di digitalizzazione e modernizzazione della pubblica Amministrazione.  \n\n\n\nAl seguente link è disponibile il programma dell’evento: AGENDA 
URL:https://www.aisis.it/event/pa-summit/
LOCATION:MI
CATEGORIES:Eventi segnalati
ATTACH;FMTTYPE=image/png:https://www.aisis.it/wp-content/uploads/PA-640x360-1.png
END:VEVENT
END:VCALENDAR